BEGIN:VCALENDAR
VERSION:2.0
PRODID:-//The People Speak - ECPv4.6.11//NONSGML v1.0//EN
CALSCALE:GREGORIAN
METHOD:PUBLISH
X-WR-CALNAME:The People Speak
X-ORIGINAL-URL:https://thepeoplespeak.co.uk
X-WR-CALDESC:Events for The People Speak
BEGIN:VEVENT
DTSTART;TZID=UTC+0:20200625T190000
DTEND;TZID=UTC+0:20200625T213000
DTSTAMP:20260422T054239
CREATED:20200524T115835Z
LAST-MODIFIED:20200701T163015Z
UID:4910-1593111600-1593120600@thepeoplespeak.co.uk
SUMMARY:Aberfeldy Live! #2
DESCRIPTION:Our second Aberfeldy Live session was a lot of fun and a big success as we combined a online\, Talkaoke style\, Zoom conversation with live interaction via a microphone and from outside our studio. \n \n\n            \n            \n                \n                \n                ‹\n                ›\n                ×\n                \n                \n                \n                    \n                        \n                            \n                                ×\n                                \n                            \n                            \n                            \n                                \n                                    \n                                    Previous                                \n                                \n                                    Next                                    \n                                \n                            \n                        \n                    \n                \n            \n\n            \n            jQuery(function() {\n                jQuery.extend(blueimp.Gallery.prototype.options\, {\n                    useBootstrapModal: false\,\n                    hidePageScrollbars: false\,\n                    container: "#blueimp-gallery-4963"\,\n                });\n            });\n            \n\n            \n
URL:https://thepeoplespeak.co.uk/event/aberfeldy-live-talkaoke-2/
CATEGORIES:Past Events,Talkaoke
ATTACH;FMTTYPE=image/jpeg:https://thepeoplespeak.co.uk/wp-content/uploads/2020/05/aberfeldy-live.jpg
END:VEVENT
END:VCALENDAR