BEGIN:VCALENDAR
VERSION:2.0
PRODID:-//The People Speak - ECPv4.6.11//NONSGML v1.0//EN
CALSCALE:GREGORIAN
METHOD:PUBLISH
X-WR-CALNAME:The People Speak
X-ORIGINAL-URL:https://thepeoplespeak.co.uk
X-WR-CALDESC:Events for The People Speak
BEGIN:VEVENT
DTSTART;TZID=UTC+0:20220922T180000
DTEND;TZID=UTC+0:20220922T200000
DTSTAMP:20260421T212505
CREATED:20220913T131629Z
LAST-MODIFIED:20220920T164010Z
UID:6129-1663869600-1663876800@thepeoplespeak.co.uk
SUMMARY:Aberfeldy Live! Talkaoke #26
DESCRIPTION:Welcome to Aberfeldy Live! Talkaoke – an interactive pop-up talkshow\, where you\, the participants\, set the agenda. Every  month we report live from the streets of Poplar and further afield via Zoom about all the matters local and global. \n::: This Talkaoke will run in 2 time slots: 3-4pm to coincide with Aberfledy Festival and 6pm until 8pm as part of our monthly Aberfeldy Live! Talkaoke programme. Hope to see you there! ::: \nHow does Talkaoke work?\nIt’s simple: the Talkaoke host sits in the middle of a round table and you\, the participants\, sit at small tables close by. Each table has a mic and you are invited to talk about anything they like. Each discussion is a journey from one unexpected subject to another: it can be topical\, funny\, deep\, surreal\, and everything in between. The conversation will be visualised live by a digital illustrator! It’s a drop in – so feel free to stay for as long or as little as you can. \nHow can I join?\nCome along to The People Speak studio at 27 Aberfeldy Street\, London\, E14 0NU or join online via Zoom by following this link. \nFree training opportunity\nIf you are interested in learning our facilitations techniques and have a go hosting a Talkaoke – drop Margot & Mikey a line on info@thepeoplespeak.org.uk to have a chat about it. \n  \nThe event is supported by Foundation For Future London. \n \n
URL:https://thepeoplespeak.co.uk/event/aberfeldy-live-talkaoke-26/
LOCATION:27 Aberfeldy Street\, London\, E14 0NU\, United Kingdom
CATEGORIES:Talkaoke
ATTACH;FMTTYPE=image/bmp:https://thepeoplespeak.co.uk/wp-content/uploads/2020/08/4jg41vxg.bmp
END:VEVENT
END:VCALENDAR