BEGIN:VCALENDAR
VERSION:2.0
PRODID:-//The People Speak - ECPv4.6.11//NONSGML v1.0//EN
CALSCALE:GREGORIAN
METHOD:PUBLISH
X-WR-CALNAME:The People Speak
X-ORIGINAL-URL:https://thepeoplespeak.co.uk
X-WR-CALDESC:Events for The People Speak
BEGIN:VEVENT
DTSTART;TZID=UTC+0:20200528T190000
DTEND;TZID=UTC+0:20200528T213000
DTSTAMP:20260422T073920
CREATED:20200511T125901Z
LAST-MODIFIED:20200603T102229Z
UID:4885-1590692400-1590701400@thepeoplespeak.co.uk
SUMMARY:Aberfeldy Live! Talkaoke - 28th May 2020
DESCRIPTION:We invited people to join the conversation rooted in East London and how we responded to the COVID emergency. It was also a chance to (re)connect with the community. \nVideo\, photos and visuals below \n \n  \n\n            \n            \n                \n                \n                ‹\n                ›\n                ×\n                \n                \n                \n                    \n                        \n                            \n                                ×\n                                \n                            \n                            \n                            \n                                \n                                    \n                                    Previous                                \n                                \n                                    Next                                    \n                                \n                            \n                        \n                    \n                \n            \n\n            \n            jQuery(function() {\n                jQuery.extend(blueimp.Gallery.prototype.options\, {\n                    useBootstrapModal: false\,\n                    hidePageScrollbars: false\,\n                    container: "#blueimp-gallery-4918"\,\n                });\n            });\n            \n\n            \n
URL:https://thepeoplespeak.co.uk/event/aberfeldy-live-talkaoke/
CATEGORIES:Past Events,Talkaoke
ATTACH;FMTTYPE=image/jpeg:https://thepeoplespeak.co.uk/wp-content/uploads/2020/05/aberfeldy-live.jpg
END:VEVENT
END:VCALENDAR