BEGIN:VCALENDAR
VERSION:2.0
PRODID:-//The People Speak - ECPv4.6.11//NONSGML v1.0//EN
CALSCALE:GREGORIAN
METHOD:PUBLISH
X-WR-CALNAME:The People Speak
X-ORIGINAL-URL:https://thepeoplespeak.co.uk
X-WR-CALDESC:Events for The People Speak
BEGIN:VEVENT
DTSTART;TZID=UTC+0:20220114T190000
DTEND;TZID=UTC+0:20220114T210000
DTSTAMP:20260422T002845
CREATED:20220110T103042Z
LAST-MODIFIED:20220214T165700Z
UID:5659-1642186800-1642194000@thepeoplespeak.co.uk
SUMMARY:ManUp4What x Talkaoke
DESCRIPTION:\nA special Talkaoke podcast session with ManUp4What – a platform to discuss crucial topics around mental health\, considered taboo for the traditional “man”. Join us online for a conversation and a live recording of the 6th episode – season finale\, where Rashid\, David\, Archie\, Johnell\, Priyesh and Abel reflect on the previous themes of what it is to be a “man”\, insecurities\, toxic masculinity and success. The session will feature spoken word performances by Romeo @SWVrthy and Johnell @jay_kage.\n\n\n\n\n\nRegister to join via Zoom here\n\n\nWatch the live stream via #MU4W YouTube here \n\n \nFollow #MU4W on Twitter\n\n\nWatch the episode here ?? \n \n\n
URL:https://thepeoplespeak.co.uk/event/manup4what-x-talkaoke/
LOCATION:27 Aberfeldy Street\, London\, E14 0NU\, United Kingdom
CATEGORIES:Talkaoke
END:VEVENT
END:VCALENDAR