BEGIN:VCALENDAR
VERSION:2.0
PRODID:-//The People Speak - ECPv4.6.11//NONSGML v1.0//EN
CALSCALE:GREGORIAN
METHOD:PUBLISH
X-WR-CALNAME:The People Speak
X-ORIGINAL-URL:https://thepeoplespeak.co.uk
X-WR-CALDESC:Events for The People Speak
BEGIN:VEVENT
DTSTART;VALUE=DATE:20230619
DTEND;VALUE=DATE:20230622
DTSTAMP:20260421T171733
CREATED:20230525T170446Z
LAST-MODIFIED:20230613T110559Z
UID:6706-1687132800-1687391999@thepeoplespeak.co.uk
SUMMARY:MozFest House Amsterdam x Talkaoke
DESCRIPTION:Talkaoke is coming to MozFest House – a regional event with small in-person sessions\, workshops\, discussions. Join us in Amsterdam\, from 19-21 June\, 2023. While the Festival is ticketed\, you will be able to enjoy some Talkaoke sessions for free as part of the public programme in the Tolhuistuin garden. \nMonday 19th June – 17:00 Garden Party Talkaoke \nTuesday 20th June – 09:30 – 17:00 Talkaoke throughout the day \nWednesday 21st June – 11:00 – 17:00 Talkaoke throughout the day \n\n\n\n\nThis year\, MozFest House is harnessing our collective power to better our digital landscape\, build transformative systems\, and sustain momentum within our community towards positive human and digital rights progress. \nIt is through the collective power of the people that we can actualize Trustworthy AI and move the needle on important issues such as bias\, transparency\, data stewardship\, and movement building. \n \n\n\n\n\n
URL:https://thepeoplespeak.co.uk/event/mozfest-house-amsterdam-x-talkaoke/
LOCATION:IJpromenade 2\, 1031 KT\, Amsterdam\, Netherlands
ATTACH;FMTTYPE=image/jpeg:https://thepeoplespeak.co.uk/wp-content/uploads/2023/05/27877435352_4c4ab34fa1_k.jpg
END:VEVENT
END:VCALENDAR