BEGIN:VCALENDAR
VERSION:2.0
PRODID:-//The People Speak - ECPv4.6.11//NONSGML v1.0//EN
CALSCALE:GREGORIAN
METHOD:PUBLISH
X-WR-CALNAME:The People Speak
X-ORIGINAL-URL:https://thepeoplespeak.co.uk
X-WR-CALDESC:Events for The People Speak
BEGIN:VEVENT
DTSTART;VALUE=DATE:20230713
DTEND;VALUE=DATE:20230716
DTSTAMP:20260423T082559
CREATED:20230516T172220Z
LAST-MODIFIED:20230516T172220Z
UID:6687-1689206400-1689465599@thepeoplespeak.co.uk
SUMMARY:Pete The Monkey Festival x Talkaoke
DESCRIPTION:Talkaoke continues its European Tour. Next stop: Pete The Monkey Festival in St Aubins Sur Mer in France! \nEvery Summer since 2012\, we welcome thousands of revelers to the Normandy coast\, transforming the sleepy fishing village of Saint-Aubin-sur-Mer into a carnival of sound and colour. \nWith music at our core\, we curate an eclectic and thoroughly unique line-up\, championing new and emerging artists and DJs from around the world\, alongside established acts\, as well as a huge array of performers\, entertainers\, and designers. \nThe definition of a fun\, creative and immersive weekend\, the festival is more than just a dance floor\, festivalgoers can also get involved with a plethora of family friendly activities designed to connect you with fellow like-minded people – from art classes\, theatre\, and dance\, to literary talks and even karaoke. Food is also a core component and the best food trucks from London and Paris are on hand to serve everyone’s favourite dishes. \n \n
URL:https://thepeoplespeak.co.uk/event/pete-the-monkey-festival-x-talkaoke/
LOCATION:France
CATEGORIES:Talkaoke
ATTACH;FMTTYPE=image/jpeg:https://thepeoplespeak.co.uk/wp-content/uploads/2023/05/52294063126_da056d5e0b_k.jpg
END:VEVENT
END:VCALENDAR