BEGIN:VCALENDAR
VERSION:2.0
PRODID:-//The People Speak - ECPv4.6.11//NONSGML v1.0//EN
CALSCALE:GREGORIAN
METHOD:PUBLISH
X-WR-CALNAME:The People Speak
X-ORIGINAL-URL:https://thepeoplespeak.co.uk
X-WR-CALDESC:Events for The People Speak
BEGIN:VEVENT
DTSTART;VALUE=DATE:20221015
DTEND;VALUE=DATE:20221106
DTSTAMP:20260421T212445
CREATED:20220920T160638Z
LAST-MODIFIED:20221014T163044Z
UID:6180-1665792000-1667692799@thepeoplespeak.co.uk
SUMMARY:Podcast-making workshops
DESCRIPTION:Podcast-making from scratch! \nDo you have an idea for a podcast but need some help getting started? This is a workshop for you! You don’t need any  previous experience. We invite everyone curious about making podcasts to join our sessions\, where you will learn how to: \n\ndevelop your unique idea\nbe a confident podcast host\ninterview guest speakers\nrecord\, edit and share your podcast with the world!\n\nThe sessions will be led by experienced podcast-makers Evi and Teddy from The People Speak – an art group based in East London. We have 25 year expertise in getting people to understand each other. We use performance art and multi-media to create fun and interactive environments\, pushing the boundaries of what a conversation can lead to. We also train people in creative facilitation skills and event production. \nDates and times:\n\nSaturday 15th October\, 12pm-2pm – FULLY BOOKED \nSaturday 22nd October\, 12pm-2pm \nSaturday 5th November\, 12pm-2pm \nWhere:\nThe People Speak studio\, 27 Aberfeldy Street\, London\, E14 0NU \nBook your place:\nEmail producer@thepeoplespeak.org.uk\, call 0203 417 8586 or pop into The People Speak studio. \n \nThe workshops are supported by Foundation For Future London. \n \n
URL:https://thepeoplespeak.co.uk/event/podcast-making-workshops/
LOCATION:27 Aberfeldy Street\, London\, E14 0NU\, United Kingdom
ATTACH;FMTTYPE=image/jpeg:https://thepeoplespeak.co.uk/wp-content/uploads/2020/09/50589417613_7b5774e558_k.jpg
END:VEVENT
END:VCALENDAR