BEGIN:VCALENDAR
VERSION:2.0
PRODID:-//The People Speak - ECPv4.6.11//NONSGML v1.0//EN
CALSCALE:GREGORIAN
METHOD:PUBLISH
X-WR-CALNAME:The People Speak
X-ORIGINAL-URL:https://thepeoplespeak.co.uk
X-WR-CALDESC:Events for The People Speak
BEGIN:VEVENT
DTSTART;TZID=UTC+0:20200415T120000
DTEND;TZID=UTC+0:20200415T140000
DTSTAMP:20260422T074334
CREATED:20200401T173307Z
LAST-MODIFIED:20200416T142412Z
UID:4837-1586952000-1586959200@thepeoplespeak.co.uk
SUMMARY:Reimagining mental health\, justice & creativity - Session 4
DESCRIPTION:SESSION #4 – REIMAGINING MENTAL HEALTH\, JUSTICE AND CREATIVITY \n \nDescription If you’re reading this – it means we ARE STILL in lockdown and we’ve moved REIMAGINING MENTAL HEALTH\, JUSTICE AND CREATIVITY conversation online. \nOpen to everyone with lived or professional interest to join us for three initial sessions. Contribute your ideas and opinions to an exciting research project which aims to rewrite the understanding of the intersection between mental health\, justice and creativity. Commissioned by the Bethlem Gallery\, The People Speak art group will facilitate a new artwork which responds to the mental health and justice research project. \nWe will draw on aspects of Talkaoke\, our flagship pop-up talk show and instant visualisation system to foster ideas and inspire solutions. We will be venturing out into the online sphere of Zoom\, Facebook Live and Twitter. \n\n            \n            \n                \n                \n                ‹\n                ›\n                ×\n                \n                \n                \n                    \n                        \n                            \n                                ×\n                                \n                            \n                            \n                            \n                                \n                                    \n                                    Previous                                \n                                \n                                    Next                                    \n                                \n                            \n                        \n                    \n                \n            \n\n            \n            jQuery(function() {\n                jQuery.extend(blueimp.Gallery.prototype.options\, {\n                    useBootstrapModal: false\,\n                    hidePageScrollbars: false\,\n                    container: "#blueimp-gallery-4801"\,\n                });\n            });\n            \n\n            \nCommissioned by the Bethlem Gallery\, The People Speak art group will facilitate a new artwork which responds to the mental health and justice research project.\nwww.thepeoplespeak.org.uk\nTwitter @ThePeopleTweet\nFacebook @ThePSNet \nThe Bethlem Gallery\, established 1997\, is situated on the grounds of The Bethlem Royal Hospital. Managed by a small\, artist-led team\, the gallery provides a professional space for high-quality artwork and fosters a supportive artist-focused environment.\nhttp://bethlemgallery.com \nMental Health and Justice is a multi-disciplinary research initiative\, funded by the Wellcome Trust https://mhj.org.uk/about/ \n
URL:https://thepeoplespeak.co.uk/event/reimagining-mental-health-justice-creativity-session-4/
CATEGORIES:Past Events,Talkaoke
ATTACH;FMTTYPE=image/jpeg:https://thepeoplespeak.co.uk/wp-content/uploads/2020/04/91633187_3132986170079726_5350370979740647424_o.jpg
END:VEVENT
END:VCALENDAR