BEGIN:VCALENDAR
VERSION:2.0
PRODID:-//The People Speak - ECPv4.6.11//NONSGML v1.0//EN
CALSCALE:GREGORIAN
METHOD:PUBLISH
X-WR-CALNAME:The People Speak
X-ORIGINAL-URL:https://thepeoplespeak.co.uk
X-WR-CALDESC:Events for The People Speak
BEGIN:VEVENT
DTSTART;TZID=UTC+0:20140319T180000
DTEND;TZID=UTC+0:20140319T200000
DTSTAMP:20260422T023203
CREATED:20140404T111709Z
LAST-MODIFIED:20140404T111709Z
UID:3629-1395252000-1395259200@thepeoplespeak.co.uk
SUMMARY:Super Slow Way - Unlecture\, Burnley
DESCRIPTION:Super Slow Way brings artist and local people together to help inspire creative ideas for the canals in and around the Pennine Lancashire area. \nWith an event taking Place at Visions Learning Trust\, Burnley\, The People Speak were there with our Unlecture format to help get the creative juices flowing and find out what people thought would liven up the canals. For more information about Super Slow Way visit their website. \nClick here to watch the video \nClick here to view the Heckle cloud \nClick here for Zsolt’s visualisations of peoples ideas \n
URL:https://thepeoplespeak.co.uk/event/super-slow-way-unlecture-burnley/
LOCATION:Burnley\, United Kingdom
CATEGORIES:Past Events,Unlecture
ATTACH;FMTTYPE=image/jpeg:https://thepeoplespeak.co.uk/wp-content/uploads/2014/04/image.jpg
END:VEVENT
END:VCALENDAR