BEGIN:VCALENDAR
VERSION:2.0
PRODID:-//The People Speak - ECPv4.6.11//NONSGML v1.0//EN
CALSCALE:GREGORIAN
METHOD:PUBLISH
X-WR-CALNAME:The People Speak
X-ORIGINAL-URL:https://thepeoplespeak.co.uk
X-WR-CALDESC:Events for The People Speak
BEGIN:VEVENT
DTSTART;VALUE=DATE:20220611
DTEND;VALUE=DATE:20220613
DTSTAMP:20260421T231320
CREATED:20221108T131329Z
LAST-MODIFIED:20221108T131329Z
UID:6307-1654905600-1655078399@thepeoplespeak.co.uk
SUMMARY:Talkaoke at Festival of Making
DESCRIPTION:The National Festival of Making is a unique celebration of UK making\, from the kitchen table to the factory floor. Presenting a programme of work that combines Art\, Manufacturing\, Making and Communities\, we commission international and national artists to create world class works\, a year round programme and a participatory FREE FAMILY festival for all to enjoy. \nCatch the photo highlights of day 1 and day 2.\n  \n
URL:https://thepeoplespeak.co.uk/event/talkaoke-at-festival-of-making/
ATTACH;FMTTYPE=image/jpeg:https://thepeoplespeak.co.uk/wp-content/uploads/2022/11/52289873039_f6e199db08_k.jpg
END:VEVENT
END:VCALENDAR