BEGIN:VCALENDAR
VERSION:2.0
PRODID:-//The People Speak - ECPv4.6.11//NONSGML v1.0//EN
CALSCALE:GREGORIAN
METHOD:PUBLISH
X-WR-CALNAME:The People Speak
X-ORIGINAL-URL:https://thepeoplespeak.co.uk
X-WR-CALDESC:Events for The People Speak
BEGIN:VEVENT
DTSTART;TZID=UTC+0:20140127T080000
DTEND;TZID=UTC+0:20140128T170000
DTSTAMP:20260422T072227
CREATED:20140219T152130Z
LAST-MODIFIED:20140219T152130Z
UID:3614-1390809600-1390928400@thepeoplespeak.co.uk
SUMMARY:Talkaoke at FRESH Conference & ESEC\, Copenhagen\, 2014
DESCRIPTION:  \n  \n  \n  \n  \nTalkaoke first event of 2014 was trip to Copenhagen for two events at the Crowne Plaza Copenhagen Towers Hotel in Denmark for FRESH Conference 2014\, and was part of the session on ‘Healthy\, green and well designed: sustainable meetings’. \nClick here to watch the FRESH 2014 video \nThe second Talkaoke event was in the lobby area of the Crowne Plaza Copenhagen Towers Hotel in Denmark for ESEC (European Sustainable Events Conference) 2014. \nClick here to watch the ESEC 2014 video \nFRESH is a two-day conference that refreshes conferences\, meetings and events and increases their effectiveness. By introducing and demonstrating the latest tools and knowledge we provide meeting planners\, meeting designers\, meeting producers and meeting owners with applicable improvement. All presentations\, room layouts\, the venue\, the staging\, the processes\, the food… everything is new or innovative or at least interesting enough to investigate. \n
URL:https://thepeoplespeak.co.uk/event/talkaoke-at-fresh-conference-esec-copenhagen-2014/
LOCATION:Denmark
CATEGORIES:Past Events,Talkaoke
ATTACH;FMTTYPE=image/jpeg:https://thepeoplespeak.co.uk/wp-content/uploads/2014/02/26.01.2014-FRESH.jpg
END:VEVENT
END:VCALENDAR