BEGIN:VCALENDAR
VERSION:2.0
PRODID:-//The People Speak - ECPv4.6.11//NONSGML v1.0//EN
CALSCALE:GREGORIAN
METHOD:PUBLISH
X-WR-CALNAME:The People Speak
X-ORIGINAL-URL:https://thepeoplespeak.co.uk
X-WR-CALDESC:Events for The People Speak
BEGIN:VEVENT
DTSTART;TZID=UTC+0:20210710T130000
DTEND;TZID=UTC+0:20210710T173000
DTSTAMP:20260422T023320
CREATED:20210624T092048Z
LAST-MODIFIED:20210713T121427Z
UID:5397-1625922000-1625938200@thepeoplespeak.co.uk
SUMMARY:Talkaoke at Happy Streets Festival
DESCRIPTION:Welcome to Talkaoke – a live television-style talk show by The People Speak taking place on Thessaly Road and online. The event is part of the Happy Streets Festival – a free one-day festival for all the family including live music\, circus\, crafts and activities\, pizza-making and outdoor live performances.\nWe welcome residents to join us at a round table of chat where\, in a socially distanced and relaxed atmosphere\, we will get a chance to reconnect.In Autumn we will see the launch of the Northern Line extension\, which will be celebrated with a festival. We would love to hear your thoughts on what are the hot subjects in the neighbourhood and what would you like to see happening during the festival. \n \nHow does Talkaoke work?\nIt’s simple: the Talkaoke host sits in the middle of a round table and you\, the participants\, sit at small tables close by. Each table has a mic and you are invited to talk about anything they like. Each discussion is a journey from one unexpected subject to another: it can be topical\, funny\, deep\, surreal\, and everything in between. The conversation will be visualised live by a digital illustrator! It’s a drop in – so feel free to stay for as long or as little as you can. \nHow can I join?\nCome along to St. George’s School\, Thessaly Road\, SW8 4JS or join online via Zoom by following this link. \nIs the event Covid-secure?\nYes. Talkaoke will take place in a socially distanced environment. We ask participants to wear face masks\, stay in their bubbles and use hand gels provided in line with the safety procedures. If you have any questions or concerns please contact us on info@thepeoplespeak.org.uk \n\n            \n            \n                \n                \n                ‹\n                ›\n                ×\n                \n                \n                \n                    \n                        \n                            \n                                ×\n                                \n                            \n                            \n                            \n                                \n                                    \n                                    Previous                                \n                                \n                                    Next                                    \n                                \n                            \n                        \n                    \n                \n            \n\n            \n            jQuery(function() {\n                jQuery.extend(blueimp.Gallery.prototype.options\, {\n                    useBootstrapModal: false\,\n                    hidePageScrollbars: false\,\n                    container: "#blueimp-gallery-5474"\,\n                });\n            });\n            \n\n            \n\n
URL:https://thepeoplespeak.co.uk/event/talkaoke-at-happy-streets-festival-2021/
LOCATION:Thessaly Road\, London\, SW8 4JS\, United Kingdom
CATEGORIES:Past Events,Talkaoke
ATTACH;FMTTYPE=image/jpeg:https://thepeoplespeak.co.uk/wp-content/uploads/2021/06/50271187441_1e701e4d9a_c.jpg
END:VEVENT
END:VCALENDAR