BEGIN:VCALENDAR
VERSION:2.0
PRODID:-//The People Speak - ECPv4.6.11//NONSGML v1.0//EN
CALSCALE:GREGORIAN
METHOD:PUBLISH
X-WR-CALNAME:The People Speak
X-ORIGINAL-URL:https://thepeoplespeak.co.uk
X-WR-CALDESC:Events for The People Speak
BEGIN:VEVENT
DTSTART;TZID=UTC+0:20140510T120000
DTEND;TZID=UTC+0:20140510T180000
DTSTAMP:20260422T084903
CREATED:20140516T135051Z
LAST-MODIFIED:20140516T141837Z
UID:3649-1399723200-1399744800@thepeoplespeak.co.uk
SUMMARY:Talkaoke at Imperial Festival
DESCRIPTION: \nTalkaoke spent an afternoon at Imperial College for Imperial Festival\, a festival about Science Engineering fun. \nClick here to watch the videos \nClick here to see the photos \nClick here to see the Heckle Cloud \n
URL:https://thepeoplespeak.co.uk/event/talkaoke-at-imperial-festival/
LOCATION:London\, United Kingdom
CATEGORIES:Past Events,Talkaoke
ATTACH;FMTTYPE=image/jpeg:https://thepeoplespeak.co.uk/wp-content/uploads/2014/05/imperial_festival.jpg
END:VEVENT
END:VCALENDAR