BEGIN:VCALENDAR
VERSION:2.0
PRODID:-//The People Speak - ECPv4.6.11//NONSGML v1.0//EN
CALSCALE:GREGORIAN
METHOD:PUBLISH
X-WR-CALNAME:The People Speak
X-ORIGINAL-URL:https://thepeoplespeak.co.uk
X-WR-CALDESC:Events for The People Speak
BEGIN:VEVENT
DTSTART;TZID=UTC+0:20140330T120000
DTEND;TZID=UTC+0:20140330T190000
DTSTAMP:20260422T041751
CREATED:20140324T160341Z
LAST-MODIFIED:20140404T110142Z
UID:3624-1396180800-1396206000@thepeoplespeak.co.uk
SUMMARY:Talkaoke at Sunday Papers Live
DESCRIPTION:Talkaoke was in Regents Park for the Third Edition of Sunday Papers Live\, an experiment in creating the perfect shared Sunday. A day of talks\, walks\, performances & food that bring the broadsheets to life. \nVisit the Sunday Papers Live website for more information on the event. \nClick here to watch the videos of the session \n
URL:https://thepeoplespeak.co.uk/event/talkaoke-at-sunday-papers-live/
LOCATION:﻿2 Regent's Park Road\, London\, NW1 7AY\, United Kingdom
CATEGORIES:Talkaoke
ATTACH;FMTTYPE=image/png:https://thepeoplespeak.co.uk/wp-content/uploads/2014/03/a327da_15d02ba98acf4f278cdf713843d0569b.png_srz_p_818_223_75_22_0.50_1.20_0.00_png_srz.png
END:VEVENT
END:VCALENDAR