BEGIN:VCALENDAR
VERSION:2.0
PRODID:-//The People Speak - ECPv4.6.11//NONSGML v1.0//EN
CALSCALE:GREGORIAN
METHOD:PUBLISH
X-WR-CALNAME:The People Speak
X-ORIGINAL-URL:https://thepeoplespeak.co.uk
X-WR-CALDESC:Events for The People Speak
BEGIN:VEVENT
DTSTART;TZID=UTC+0:20231024T110000
DTEND;TZID=UTC+0:20231026T180000
DTSTAMP:20260423T082440
CREATED:20231023T160317Z
LAST-MODIFIED:20231025T113533Z
UID:6906-1698145200-1698343200@thepeoplespeak.co.uk
SUMMARY:Talkaoke at The Gene Home pop up with MRC Laboratory of Medical Sciences
DESCRIPTION:We are collaborating with MRC Laboratory of Medical Sciences on Tuesday 24th and Thursday 26th October! Join us for Talkaoke – our pop up talkshow where you decide on the direction of the chat! We will be located on the ground floor between JD sports and Ann Summers shops. \nIn Celebration of Black History Month MRC Laboratory of Medical Sciences have created the LMS Gene Home Pop Up at Westfield\, White City. The week-long pop-up will feature a diverse array of talks\, workshops\, and free NHS health MOT check-ups\, meticulously tailored for the Black community. \nAnd we welcome total science newbies! Ever wondered how to extract DNA and what it looks like? How hormones sculpt your body? If garden critters are the next-gen disease fighters? Stop by the Gene Home\, an immersive installation\, exhibition\, and pop–up shop that shines a light on the invaluable contributions of Black communities to the realms of science and medicine. \nRead more about the week’s programme here. \n  \n \n
URL:https://thepeoplespeak.co.uk/event/talkaoke-at-the-gene-home/
CATEGORIES:Talkaoke
ATTACH;FMTTYPE=image/jpeg:https://thepeoplespeak.co.uk/wp-content/uploads/2023/10/IMG_5722.jpg
END:VEVENT
END:VCALENDAR