BEGIN:VCALENDAR
VERSION:2.0
PRODID:-//The People Speak - ECPv4.6.11//NONSGML v1.0//EN
CALSCALE:GREGORIAN
METHOD:PUBLISH
X-WR-CALNAME:The People Speak
X-ORIGINAL-URL:https://thepeoplespeak.co.uk
X-WR-CALDESC:Events for The People Speak
BEGIN:VEVENT
DTSTART;VALUE=DATE:20210724
DTEND;VALUE=DATE:20210725
DTSTAMP:20260422T023412
CREATED:20210812T171126Z
LAST-MODIFIED:20210812T183806Z
UID:5535-1627084800-1627171199@thepeoplespeak.co.uk
SUMMARY:Talkaoke: Festival of Culture
DESCRIPTION:Talkaoke in Nelson Town Centre\, Pendle\, for Festival of Culture. \n \n\n            \n            \n                \n                \n                ‹\n                ›\n                ×\n                \n                \n                \n                    \n                        \n                            \n                                ×\n                                \n                            \n                            \n                            \n                                \n                                    \n                                    Previous                                \n                                \n                                    Next                                    \n                                \n                            \n                        \n                    \n                \n            \n\n            \n            jQuery(function() {\n                jQuery.extend(blueimp.Gallery.prototype.options\, {\n                    useBootstrapModal: false\,\n                    hidePageScrollbars: false\,\n                    container: "#blueimp-gallery-5536"\,\n                });\n            });\n            \n\n            \n  \n
URL:https://thepeoplespeak.co.uk/event/talkaoke-festival-of-culture/
CATEGORIES:Past Events,Talkaoke
ATTACH;FMTTYPE=image/jpeg:https://thepeoplespeak.co.uk/wp-content/uploads/2021/08/festival_of_culture.jpg
END:VEVENT
END:VCALENDAR