BEGIN:VCALENDAR
VERSION:2.0
PRODID:-//The People Speak - ECPv4.6.11//NONSGML v1.0//EN
CALSCALE:GREGORIAN
METHOD:PUBLISH
X-WR-CALNAME:The People Speak
X-ORIGINAL-URL:https://thepeoplespeak.co.uk
X-WR-CALDESC:Events for The People Speak
BEGIN:VEVENT
DTSTART;TZID=UTC+0:20200228T180000
DTEND;TZID=UTC+0:20200228T220000
DTSTAMP:20260422T102621
CREATED:20200311T112342Z
LAST-MODIFIED:20200313T111047Z
UID:4794-1582912800-1582927200@thepeoplespeak.co.uk
SUMMARY:Talkaoke: Natural History Museum\, Lates
DESCRIPTION:Talkaoke was at Natural History Museum Lates: All the Science Ladies \n  \n \n\n            \n            \n                \n                \n                ‹\n                ›\n                ×\n                \n                \n                \n                    \n                        \n                            \n                                ×\n                                \n                            \n                            \n                            \n                                \n                                    \n                                    Previous                                \n                                \n                                    Next                                    \n                                \n                            \n                        \n                    \n                \n            \n\n            \n            jQuery(function() {\n                jQuery.extend(blueimp.Gallery.prototype.options\, {\n                    useBootstrapModal: false\,\n                    hidePageScrollbars: false\,\n                    container: "#blueimp-gallery-4796"\,\n                });\n            });\n            \n\n            \n
URL:https://thepeoplespeak.co.uk/event/talkaoke-natural-history-museum-lates/
LOCATION:Cromwell Road\, London\, SW7 5BD\, United Kingdom
CATEGORIES:Talkaoke
ATTACH;FMTTYPE=image/jpeg:https://thepeoplespeak.co.uk/wp-content/uploads/2020/03/IMG_3967-small.jpg
END:VEVENT
END:VCALENDAR