BEGIN:VCALENDAR
VERSION:2.0
PRODID:-//The People Speak - ECPv4.6.11//NONSGML v1.0//EN
CALSCALE:GREGORIAN
METHOD:PUBLISH
X-WR-CALNAME:The People Speak
X-ORIGINAL-URL:https://thepeoplespeak.co.uk
X-WR-CALDESC:Events for The People Speak
BEGIN:VEVENT
DTSTART;TZID=UTC+0:20200723T170000
DTEND;TZID=UTC+0:20200723T183000
DTSTAMP:20260422T054851
CREATED:20200630T114515Z
LAST-MODIFIED:20200724T154652Z
UID:4946-1595523600-1595529000@thepeoplespeak.co.uk
SUMMARY:Talkaoke: Re-imagining Your Organisation During Lockdown
DESCRIPTION:Welcome to another interaction of online Talkaoke presented in partnership with IoF Cultural Sector Network & RAISE: Arts Culture and Heritage. \nwww.institute-of-fundraising.org.uk \n \n\n            \n            \n                \n                \n                ‹\n                ›\n                ×\n                \n                \n                \n                    \n                        \n                            \n                                ×\n                                \n                            \n                            \n                            \n                                \n                                    \n                                    Previous                                \n                                \n                                    Next                                    \n                                \n                            \n                        \n                    \n                \n            \n\n            \n            jQuery(function() {\n                jQuery.extend(blueimp.Gallery.prototype.options\, {\n                    useBootstrapModal: false\,\n                    hidePageScrollbars: false\,\n                    container: "#blueimp-gallery-4981"\,\n                });\n            });\n            \n\n            \n
URL:https://thepeoplespeak.co.uk/event/talkaoke-re-imagining-your-organisation-during-lockdown/
CATEGORIES:Past Events,Talkaoke
ATTACH;FMTTYPE=image/jpeg:https://thepeoplespeak.co.uk/wp-content/uploads/2020/06/IOF-23-JUL-page-001.jpg
END:VEVENT
END:VCALENDAR