BEGIN:VCALENDAR
VERSION:2.0
PRODID:-//The People Speak - ECPv4.6.11//NONSGML v1.0//EN
CALSCALE:GREGORIAN
METHOD:PUBLISH
X-WR-CALNAME:The People Speak
X-ORIGINAL-URL:https://thepeoplespeak.co.uk
X-WR-CALDESC:Events for The People Speak
BEGIN:VEVENT
DTSTART;TZID=UTC+0:20200325T110000
DTEND;TZID=UTC+0:20200325T140000
DTSTAMP:20260422T092128
CREATED:20200311T110245Z
LAST-MODIFIED:20200328T130837Z
UID:4785-1585134000-1585144800@thepeoplespeak.co.uk
SUMMARY:Talkaoke: Reimagining Mental Health - Ortus
DESCRIPTION:After a great session last month – we took to Zoom to carry on the conversations about mental health\, justice & creativity. \nContribute your ideas & opinions to an exciting research project\, which recites the intersection between mental health\, justice and creativity. \nCommissioned by The Bethlem Gallery\, The People Speak Art Group will facilitate a new artwork which responds to the mental health and justice research project – mhj.org.uk \n \n\n            \n            \n                \n                \n                ‹\n                ›\n                ×\n                \n                \n                \n                    \n                        \n                            \n                                ×\n                                \n                            \n                            \n                            \n                                \n                                    \n                                    Previous                                \n                                \n                                    Next                                    \n                                \n                            \n                        \n                    \n                \n            \n\n            \n            jQuery(function() {\n                jQuery.extend(blueimp.Gallery.prototype.options\, {\n                    useBootstrapModal: false\,\n                    hidePageScrollbars: false\,\n                    container: "#blueimp-gallery-4801"\,\n                });\n            });\n            \n\n            \n
URL:https://thepeoplespeak.co.uk/event/talkaoke-reimagining-mental-health-ortus/
LOCATION:82-96 Grove Ln\, Camberwell\,\, London\, SE5 8SN\, United Kingdom
CATEGORIES:Past Events,Talkaoke
ATTACH;FMTTYPE=image/jpeg:https://thepeoplespeak.co.uk/wp-content/uploads/2020/03/talkaoke-ortus2.jpg
END:VEVENT
END:VCALENDAR