BEGIN:VCALENDAR
VERSION:2.0
PRODID:-//The People Speak - ECPv4.6.11//NONSGML v1.0//EN
CALSCALE:GREGORIAN
METHOD:PUBLISH
X-WR-CALNAME:The People Speak
X-ORIGINAL-URL:https://thepeoplespeak.co.uk
X-WR-CALDESC:Events for The People Speak
BEGIN:VEVENT
DTSTART;TZID=UTC+0:20140227T193000
DTEND;TZID=UTC+0:20140227T223000
DTSTAMP:20260422T053857
CREATED:20140131T165656Z
LAST-MODIFIED:20140310T113832Z
UID:3609-1393529400-1393540200@thepeoplespeak.co.uk
SUMMARY:Talkaoke Studio Session 50
DESCRIPTION:Talkaoke celebrates it’s 50th Studio session at The People Speak Nerve Centre. We first started our monthly studio sessions as a training exercise for new hosts as well as for regular Talkaokists to get together and have a chat. We now have an array of talented hosts who regularly host Talkaoke sessions. \nClick here to watch the videos \n
URL:https://thepeoplespeak.co.uk/event/talkaoke-studio-session-50/
CATEGORIES:Talkaoke
ATTACH;FMTTYPE=image/jpeg:https://thepeoplespeak.co.uk/wp-content/uploads/2012/03/MG_3334.jpg
ORGANIZER;CN="The%20People%20Speak":MAILTO:info@thepeoplespeak.org.uk
END:VEVENT
END:VCALENDAR