BEGIN:VCALENDAR
VERSION:2.0
PRODID:-//The People Speak - ECPv4.6.11//NONSGML v1.0//EN
CALSCALE:GREGORIAN
METHOD:PUBLISH
X-WR-CALNAME:The People Speak
X-ORIGINAL-URL:https://thepeoplespeak.co.uk
X-WR-CALDESC:Events for The People Speak
BEGIN:VEVENT
DTSTART;TZID=UTC+0:20140424T193000
DTEND;TZID=UTC+0:20140424T223000
DTSTAMP:20260422T053857
CREATED:20140404T160508Z
LAST-MODIFIED:20140429T165425Z
UID:3632-1398367800-1398378600@thepeoplespeak.co.uk
SUMMARY:Talkaoke Studio Session 51
DESCRIPTION:Talkaoke was back and buzzing from the start with another exciting studio session at The People Speak Nerve Centre in Hoxton.\nClick here to watch the video \n
URL:https://thepeoplespeak.co.uk/event/talkaoke-studio-session-51/
CATEGORIES:Past Events,Talkaoke
ATTACH;FMTTYPE=image/jpeg:https://thepeoplespeak.co.uk/wp-content/uploads/2012/03/INDSUT_TalkaokeLR_29151.jpg
END:VEVENT
END:VCALENDAR