BEGIN:VCALENDAR
VERSION:2.0
PRODID:-//The People Speak - ECPv4.6.11//NONSGML v1.0//EN
CALSCALE:GREGORIAN
METHOD:PUBLISH
X-WR-CALNAME:The People Speak
X-ORIGINAL-URL:https://thepeoplespeak.co.uk
X-WR-CALDESC:Events for The People Speak
BEGIN:VEVENT
DTSTART;TZID=UTC+0:20220806T130000
DTEND;TZID=UTC+0:20220806T160000
DTSTAMP:20260421T214124
CREATED:20220726T134026Z
LAST-MODIFIED:20220914T134347Z
UID:6065-1659790800-1659801600@thepeoplespeak.co.uk
SUMMARY:Talkaoke x Regent's Park Estate Community Festival
DESCRIPTION:Join us for Regent’s Park Estate Community Festival 6th August 1-4pm at three locations: Cumberland Market\, Clarence Gardens and on Drummond Street at Old Diorama Arts Centre [ODAC]! \nThis promises to be the biggest community festival for a long time: Talkaoke\, Performances\, Arts\, Music\, Recycling and sustainability\, inflatables\, music\, food – there will be something for everyone and something slightly different in each area! \nThe event overall will be steered by a group of young people working with Camden Youth Service and residents from Community Champions. \n \n \n\n            \n            \n                \n                \n                ‹\n                ›\n                ×\n                \n                \n                \n                    \n                        \n                            \n                                ×\n                                \n                            \n                            \n                            \n                                \n                                    \n                                    Previous                                \n                                \n                                    Next                                    \n                                \n                            \n                        \n                    \n                \n            \n\n            \n            jQuery(function() {\n                jQuery.extend(blueimp.Gallery.prototype.options\, {\n                    useBootstrapModal: false\,\n                    hidePageScrollbars: false\,\n                    container: "#blueimp-gallery-6163"\,\n                });\n            });\n            \n\n            \n
URL:https://thepeoplespeak.co.uk/event/talkaoke-x-regents-park-estate-community-festival/
LOCATION:201 Drummond Street Regent's Place London NW1 3FE
CATEGORIES:Past Events,Talkaoke
ATTACH;FMTTYPE=image/jpeg:https://thepeoplespeak.co.uk/wp-content/uploads/2022/07/41528577415_e474485244_k.jpg
END:VEVENT
END:VCALENDAR