BEGIN:VCALENDAR
VERSION:2.0
PRODID:-//The People Speak - ECPv4.6.11//NONSGML v1.0//EN
CALSCALE:GREGORIAN
METHOD:PUBLISH
X-WR-CALNAME:The People Speak
X-ORIGINAL-URL:https://thepeoplespeak.co.uk
X-WR-CALDESC:Events for The People Speak
BEGIN:VEVENT
DTSTART;VALUE=DATE:20230729
DTEND;VALUE=DATE:20230730
DTSTAMP:20260423T082348
CREATED:20230612T175847Z
LAST-MODIFIED:20230612T175847Z
UID:6730-1690588800-1690675199@thepeoplespeak.co.uk
SUMMARY:Talkaoke x Regent's Roots
DESCRIPTION:We are coming back to Camden! Old Diorama Arts Centre is an arts creation and community centre\, with Euston as inspiration\, collaborator and stage. Community Champions Regent’s Park is a resident-led social action and wellbeing-improving volunteer programme\, managed by Fitzrovia Youth in Action\, with a home at ODAC. \nTalkaoke is an interactive talk-show\, where you decide on the subjects. The format is simple: the Talkaoke host sits in the middle of a doughnut-shaped table and passes the mic around\, inviting contributions and comments from each participant. Each discussion is a journey from one unexpected subject to another: it can be topical\, funny\, deep\, surreal\, and everything in between. It’s a drop in – so feel free to stay for as long or as little as you can. \n  \n
URL:https://thepeoplespeak.co.uk/event/talkaoke-x-regents-roots/
CATEGORIES:Talkaoke
ATTACH;FMTTYPE=image/jpeg:https://thepeoplespeak.co.uk/wp-content/uploads/2022/09/52340738286_0f48f25cac_k.jpg
END:VEVENT
END:VCALENDAR