BEGIN:VCALENDAR
VERSION:2.0
PRODID:-//The People Speak - ECPv4.6.11//NONSGML v1.0//EN
CALSCALE:GREGORIAN
METHOD:PUBLISH
X-WR-CALNAME:The People Speak
X-ORIGINAL-URL:https://thepeoplespeak.co.uk
X-WR-CALDESC:Events for The People Speak
BEGIN:VEVENT
DTSTART;TZID=UTC+0:20220827T140000
DTEND;TZID=UTC+0:20220827T163000
DTSTAMP:20260421T200405
CREATED:20220812T134556Z
LAST-MODIFIED:20220914T135721Z
UID:6107-1661608800-1661617800@thepeoplespeak.co.uk
SUMMARY:Talkaoke workshop x The Feel Good Community
DESCRIPTION:\n\n\n\nWe met Rochelle earlier on this year in Hackney Wick and now we are collaborating! The People Speak are teaming up with The Feel Good Community CIC – an East London organisation promoting good mental wellbeing in the community. We will bring our pop up talk show format Talkaoke. If you are interested in creative facilitation Talkaoke-style? Join us for a tastear training session where we reveal some trick of the trade and you can have a go at hosting! See you at Whitmore Community Centre Summer Festival. \nHow does Talkaoke work?  \nIt’s simple: the Talkaoke host sits in the middle of a round table and you\, the participants\, sit at small tables close by. Each table has a mic and you are invited to talk about anything they like. Each discussion is a journey from one unexpected subject to another: it can be topical\, funny\, deep\, surreal\, and everything in between. The conversation will be visualised live by a digital illustrator! It’s a drop in – so feel free to stay for as long or as little as you can. \nLearn facilitation skills Talkaoke-style \nWe have 25 years experience of creative facilitation using Talkaoke pop-up talk show format. If you would like to find out more about how it works and even have a go at hosting Talkaoke yourself – drop Margot and Mikey a line on info@thepeoplespeak.org.uk. \n\n\n\n\n \n \n\n            \n            \n                \n                \n                ‹\n                ›\n                ×\n                \n                \n                \n                    \n                        \n                            \n                                ×\n                                \n                            \n                            \n                            \n                                \n                                    \n                                    Previous                                \n                                \n                                    Next                                    \n                                \n                            \n                        \n                    \n                \n            \n\n            \n            jQuery(function() {\n                jQuery.extend(blueimp.Gallery.prototype.options\, {\n                    useBootstrapModal: false\,\n                    hidePageScrollbars: false\,\n                    container: "#blueimp-gallery-6166"\,\n                });\n            });\n            \n\n            \n
URL:https://thepeoplespeak.co.uk/event/talkaoke-x-the-feel-good-community/
CATEGORIES:Past Events,Talkaoke
ATTACH;FMTTYPE=image/jpeg:https://thepeoplespeak.co.uk/wp-content/uploads/2022/08/48321577637_07dac6bd4d_k.jpg
END:VEVENT
END:VCALENDAR