BEGIN:VCALENDAR
VERSION:2.0
PRODID:-//The People Speak - ECPv4.6.11//NONSGML v1.0//EN
CALSCALE:GREGORIAN
METHOD:PUBLISH
X-WR-CALNAME:The People Speak
X-ORIGINAL-URL:https://thepeoplespeak.co.uk
X-WR-CALDESC:Events for The People Speak
BEGIN:VEVENT
DTSTART;TZID=UTC+0:20220326T120000
DTEND;TZID=UTC+0:20220326T150000
DTSTAMP:20260422T003034
CREATED:20220117T203001Z
LAST-MODIFIED:20220224T124157Z
UID:5678-1648296000-1648306800@thepeoplespeak.co.uk
SUMMARY:Talkaoke in Thamesmead
DESCRIPTION:We are back in Thamesmead as part of a series of free public events for the residents around Cygnet Square on Southmere Lake. Come and chat with us about what matters and help us visualise the future neighbourhood! \nCheck out the photo highlights from July and September 2021. \n____ \nBetween July 2021 and March 2022 The People Speak have been talking with the local residents of Southmere Estate about their ideas for events on Cygnet Square\, which were brought to life by Continental Drifts in partnership with Peabody. In a series of Talkaokes and vox pops style interviews we learnt about the history of the area\, characters that live here\, challenges and aspirations for the community. The project is a follow on from 2018’s Talkaoke celebrating Thamesmead’s 50th birthday [link to visualisations here]. \n
URL:https://thepeoplespeak.co.uk/event/vox-pops-in-thamesmead/
CATEGORIES:Talkaoke
ATTACH;FMTTYPE=image/jpeg:https://thepeoplespeak.co.uk/wp-content/uploads/2022/01/51369522691_412eb81ce8_k.jpg
END:VEVENT
END:VCALENDAR