BEGIN:VCALENDAR
VERSION:2.0
PRODID:-//The People Speak - ECPv4.6.11//NONSGML v1.0//EN
CALSCALE:GREGORIAN
METHOD:PUBLISH
X-WR-CALNAME:The People Speak
X-ORIGINAL-URL:https://thepeoplespeak.co.uk
X-WR-CALDESC:Events for The People Speak
BEGIN:VEVENT
DTSTART;TZID=UTC+0:20230618T110000
DTEND;TZID=UTC+0:20230618T150000
DTSTAMP:20260421T155956
CREATED:20230612T132352Z
LAST-MODIFIED:20230612T174448Z
UID:6724-1687086000-1687100400@thepeoplespeak.co.uk
SUMMARY:Talkaoke Live x RAD
DESCRIPTION:For the first time we are joining Wandsworth Arts Fringe and bringing Talkaoke to RAD – Royal Academy of Dance!  \nJoin the chat around the Talkaoke table as part of RAD’s ‘The Magic of Dance’ community open day. Connect\, share your views and ideas about dance\, culture and anything else!  \nTalkaoke is an interactive talk-show\, where you decide on the subjects. The format is simple: the Talkaoke host sits in the middle of a doughnut-shaped table and passes the mic around\, inviting contributions and comments from each participant. Each discussion is a journey from one unexpected subject to another: it can be topical\, funny\, deep\, surreal\, and everything in between. \nIt’s a drop in – so feel free to stay for as long or as little as you can. \nRoyal Academy of Dance – RAD is one of the world’s most influential dance education and training organisations. With our global headquarters in London\, our work takes us into diverse communities\, locally and around the world\, to widen access to dance and to share the benefits and wellbeing that it brings. \nWandsworth Arts Fringe bursts into life for 17 brilliant days each June\, shaking up South West London with an eclectic programme of arts & culture that thrills\, moves and inspires audiences from across the city. \nSince 2010\, WAF has brought together hundreds of creatives in a bold and boundary pushing annual line-up of cutting-edge theatre and comedy\, exquisite music concerts\, art exhibitions\, experimental performance art\, outdoor art extravaganzas\, and everything in between\, taking place across the borough.  \nWandsworth Arts Fringe is brought to you by Wandsworth Council\, supporting the arts and culture industries across the borough. The festival is funded by Wandsworth Council and has received generous contributions from Arts Council England. \n  \n  \n
URL:https://thepeoplespeak.co.uk/event/wandsworth-arts-fringe-x-talkaoke/
CATEGORIES:Talkaoke
ATTACH;FMTTYPE=image/jpeg:https://thepeoplespeak.co.uk/wp-content/uploads/2023/06/30321476120_f788b904f1_k.jpg
END:VEVENT
END:VCALENDAR